BEGIN:VCALENDAR
VERSION:2.0
PRODID:-//wp-events-plugin.com//7.2.3.1//EN
TZID:Europe/Berlin
X-WR-TIMEZONE:Europe/Berlin
BEGIN:VEVENT
UID:17@hessheim.de
DTSTART;TZID=Europe/Berlin:20241026T200000
DTEND;TZID=Europe/Berlin:20241026T230000
DTSTAMP:20240909T191425Z
URL:https://hessheim.de/events/kaviar-trifft-currywurst-theater-im-buerger
 haus/
SUMMARY:Kaviar trifft Currywurst - Theater im Bürgerhaus
DESCRIPTION:
LOCATION:Bürgerhaus\, Hauptstraße 36\, Heßheim\, 67258\, Deutschland
X-APPLE-STRUCTURED-LOCATION;VALUE=URI;X-ADDRESS=Hauptstraße 36\, Heßheim\
 , 67258\, Deutschland;X-APPLE-RADIUS=100;X-TITLE=Bürgerhaus:geo:0,0
END:VEVENT
BEGIN:VTIMEZONE
TZID:Europe/Berlin
X-LIC-LOCATION:Europe/Berlin
BEGIN:DAYLIGHT
DTSTART:20240331T030000
TZOFFSETFROM:+0100
TZOFFSETTO:+0200
TZNAME:CEST
END:DAYLIGHT
END:VTIMEZONE
END:VCALENDAR