BEGIN:VCALENDAR
VERSION:2.0
PRODID:-//wp-events-plugin.com//7.2.3.1//EN
TZID:Europe/Berlin
X-WR-TIMEZONE:Europe/Berlin
BEGIN:VEVENT
UID:28@hessheim.de
DTSTART;TZID=Europe/Berlin:20260604T000000
DTEND;TZID=Europe/Berlin:20260604T000000
DTSTAMP:20260301T133339Z
URL:https://hessheim.de/events/frohnleichnahmsprozesion-der-katholischen-k
 irche/
SUMMARY:Frohnleichnahmsprozesion der katholischen Kirche
DESCRIPTION:
LOCATION:Katholische Kirche St. Martin\, Kirchenstraße 10\, Heßheim\, Rhe
 inland-Pfalz\, 67258\, Deutschland
X-APPLE-STRUCTURED-LOCATION;VALUE=URI;X-ADDRESS=Kirchenstraße 10\, Heßhei
 m\, Rheinland-Pfalz\, 67258\, Deutschland;X-APPLE-RADIUS=100;X-TITLE=Katho
 lische Kirche St. Martin:geo:0,0
END:VEVENT
BEGIN:VTIMEZONE
TZID:Europe/Berlin
X-LIC-LOCATION:Europe/Berlin
BEGIN:DAYLIGHT
DTSTART:20260329T030000
TZOFFSETFROM:+0100
TZOFFSETTO:+0200
TZNAME:CEST
END:DAYLIGHT
END:VTIMEZONE
END:VCALENDAR